BEGIN:VCALENDAR
VERSION:2.0
PRODID:-//L&#039;Arche Syracuse - ECPv6.6.4.2//NONSGML v1.0//EN
CALSCALE:GREGORIAN
METHOD:PUBLISH
X-WR-CALNAME:L&#039;Arche Syracuse
X-ORIGINAL-URL:https://larchesyracuse.org
X-WR-CALDESC:Events for L&#039;Arche Syracuse
REFRESH-INTERVAL;VALUE=DURATION:PT1H
X-Robots-Tag:noindex
X-PUBLISHED-TTL:PT1H
BEGIN:VTIMEZONE
TZID:UTC
BEGIN:STANDARD
TZOFFSETFROM:+0000
TZOFFSETTO:+0000
TZNAME:UTC
DTSTART:20200101T000000
END:STANDARD
TZID:America/New_York
BEGIN:DAYLIGHT
TZOFFSETFROM:-0500
TZOFFSETTO:-0400
TZNAME:EDT
DTSTART:20130310T070000
END:DAYLIGHT
BEGIN:STANDARD
TZOFFSETFROM:-0400
TZOFFSETTO:-0500
TZNAME:EST
DTSTART:20131103T060000
END:STANDARD
BEGIN:DAYLIGHT
TZOFFSETFROM:-0500
TZOFFSETTO:-0400
TZNAME:EDT
DTSTART:20140309T070000
END:DAYLIGHT
BEGIN:STANDARD
TZOFFSETFROM:-0400
TZOFFSETTO:-0500
TZNAME:EST
DTSTART:20141102T060000
END:STANDARD
BEGIN:DAYLIGHT
TZOFFSETFROM:-0500
TZOFFSETTO:-0400
TZNAME:EDT
DTSTART:20150308T070000
END:DAYLIGHT
BEGIN:STANDARD
TZOFFSETFROM:-0400
TZOFFSETTO:-0500
TZNAME:EST
DTSTART:20151101T060000
END:STANDARD
BEGIN:DAYLIGHT
TZOFFSETFROM:-0500
TZOFFSETTO:-0400
TZNAME:EDT
DTSTART:20160313T070000
END:DAYLIGHT
BEGIN:STANDARD
TZOFFSETFROM:-0400
TZOFFSETTO:-0500
TZNAME:EST
DTSTART:20161106T060000
END:STANDARD
BEGIN:DAYLIGHT
TZOFFSETFROM:-0500
TZOFFSETTO:-0400
TZNAME:EDT
DTSTART:20170312T070000
END:DAYLIGHT
BEGIN:STANDARD
TZOFFSETFROM:-0400
TZOFFSETTO:-0500
TZNAME:EST
DTSTART:20171105T060000
END:STANDARD
BEGIN:DAYLIGHT
TZOFFSETFROM:-0500
TZOFFSETTO:-0400
TZNAME:EDT
DTSTART:20180311T070000
END:DAYLIGHT
BEGIN:STANDARD
TZOFFSETFROM:-0400
TZOFFSETTO:-0500
TZNAME:EST
DTSTART:20181104T060000
END:STANDARD
BEGIN:DAYLIGHT
TZOFFSETFROM:-0500
TZOFFSETTO:-0400
TZNAME:EDT
DTSTART:20190310T070000
END:DAYLIGHT
BEGIN:STANDARD
TZOFFSETFROM:-0400
TZOFFSETTO:-0500
TZNAME:EST
DTSTART:20191103T060000
END:STANDARD
BEGIN:DAYLIGHT
TZOFFSETFROM:-0500
TZOFFSETTO:-0400
TZNAME:EDT
DTSTART:20200308T070000
END:DAYLIGHT
BEGIN:STANDARD
TZOFFSETFROM:-0400
TZOFFSETTO:-0500
TZNAME:EST
DTSTART:20201101T060000
END:STANDARD
END:VTIMEZONE
BEGIN:VEVENT
DTSTART;VALUE=DATE:20201203
DTEND;VALUE=DATE:20201204
DTSTAMP:20260420T050232
CREATED:20201112T000452Z
LAST-MODIFIED:20201112T000545Z
UID:10799-1606953600-1607039999@larchesyracuse.org
SUMMARY:International Day of People with Disabilities
DESCRIPTION:International Day of People with Disability (IDPWD) is a United Nations-sanctioned day that is celebrated internationally on the 3rd of December. \nLearn more at: https://idpwd.org/
URL:https://larchesyracuse.org/event/international-day-of-people-with-disabilities/
END:VEVENT
BEGIN:VEVENT
DTSTART;VALUE=DATE:20201201
DTEND;VALUE=DATE:20201204
DTSTAMP:20260420T050232
CREATED:20201110T004833Z
LAST-MODIFIED:20201111T235021Z
UID:10782-1606780800-1607039999@larchesyracuse.org
SUMMARY:Giving Tuesday Campaign
DESCRIPTION:During this pandemic\, people with disabilities are some of the most vulnerable to the virus. Here at L’Arche\, we’re stepping up to provide more staffing hours\, safety measures and equipment\, and fun activities as we stay home! We’re making a difference in the lives of our community members by providing a safe\, loving home life. We’re making a difference by being a sign of hope for others\, as we continue to do virtual outreach\, teaching people what inclusion can look like even in the midst of difficult times. Will you join us in making a difference? Giving Tuesday on December 1st kicks off our three day campaign of giving\, praying\, and sharing stories! It ends on the International Day of Persons with Disabilities on December 3rd. During those three days you can make a difference through donating funds\, praying for and with us\, and building awareness by sharing our stories via email and social media. \n\nA generous friend has given us $10\,000 and challenged us to match that amount! Every little bit counts as we climb to our $10\,000 goal. \n\n\n\n\n\n\n\n\nLet’s make a difference – together!\n\n\n\n\n\nFollow L’Arche Syracuse\n  \n ‌  ‌  ‌ \n 
URL:https://larchesyracuse.org/event/giving-tuesday/
END:VEVENT
BEGIN:VEVENT
DTSTART;TZID=UTC:20201121T140000
DTEND;TZID=UTC:20201121T143000
DTSTAMP:20260420T050232
CREATED:20201110T005624Z
LAST-MODIFIED:20201219T001449Z
UID:10790-1605967200-1605969000@larchesyracuse.org
SUMMARY:Johnny Schofield's Virtual Art Show
DESCRIPTION:Johnny Schofield will be releasing an online gallery of art to view and purchase on Saturday\, November 21st.  Come hear Johnny’s Artist Talk at 2pm EST\, Saturday November 21st on zoom. \nAll proceeds are going to Friends of Caritas Cuba. \nView Johnny’s Artshow Virtual Gallery \nPurchase Johnny’s Artwork here \n \nCheck out Johnny Schofield’s artist biography.
URL:https://larchesyracuse.org/event/johnny-schofields-virtual-art-show/
END:VEVENT
BEGIN:VEVENT
DTSTART;TZID=America/New_York:20201108T140000
DTEND;TZID=America/New_York:20201108T150000
DTSTAMP:20260420T050232
CREATED:20201008T194611Z
LAST-MODIFIED:20201008T194611Z
UID:10699-1604844000-1604847600@larchesyracuse.org
SUMMARY:Virtual Fall Open House
DESCRIPTION:Join Our Virtual Fall Open House!\nNovember 8th\, 2pm EST\nCome say “hello” to your friends at L’Arche Syracuse during our first-ever online open house!\nSpend quality time with community members and friends in our zoom breakout rooms.\nWith online rooms for art & crafts\, L’Arche storytelling\, and Q&A\, we will create a space of welcome\nand connection for friends old and new alike! \nAll are welcome\, please RSVP below for the zoom link and additional event information.  \nLoading…
URL:https://larchesyracuse.org/event/virtual-fall-open-house/
END:VEVENT
BEGIN:VEVENT
DTSTART;TZID=UTC:20200719T153000
DTEND;TZID=UTC:20200719T163000
DTSTAMP:20260420T050232
CREATED:20200624T211618Z
LAST-MODIFIED:20200801T011434Z
UID:10515-1595172600-1595176200@larchesyracuse.org
SUMMARY:Encounter L'Arche Online
DESCRIPTION:Join us online to learn about L’Arche Syracuse’s mission and daily life and meet community members from 3:30-4:30pm. This event is meant for people new to L’Arche who want to a high-level overview of what we do and our daily lives. RSVP here to receive event updates and a zoom link.
URL:https://larchesyracuse.org/event/encounter-larche-online/
END:VEVENT
BEGIN:VEVENT
DTSTART;TZID=UTC:20200707T183000
DTEND;TZID=UTC:20200707T193000
DTSTAMP:20260420T050232
CREATED:20200623T213730Z
LAST-MODIFIED:20221101T003234Z
UID:10425-1594146600-1594150200@larchesyracuse.org
SUMMARY:All Community Prayer Night
DESCRIPTION:During these uncertain times\, our support of one another and our foundation of prayer remains. As a result\, L’Arche Syracuse Prayer Nights in DC\, Arlington and Georgetown have all been combined into this larger online prayer gathering via ZOOM.\nAll are welcome to join as we engage together in song\, liturgy\, silence\, and friendship.\n\n\n\n\n\n\n\n\n\n\n\n\n\n\n\n\n\n\n\n\nFirst Tuesday of each month at 6:30PM EDT\nZoom Meeting Link: https://zoom.us/j/360415178\nMeeting ID: 360 415 178\n\n\nPlease contact info@larche-Syracuse.org if you have any questions about Prayer Nights\, ZOOM or wish to be added to the reminder list.
URL:https://larchesyracuse.org/event/all-community-prayer-night/
END:VEVENT
BEGIN:VEVENT
DTSTART;TZID=America/New_York:20200625T190000
DTEND;TZID=America/New_York:20200625T190000
DTSTAMP:20260420T050232
CREATED:20200601T064505Z
LAST-MODIFIED:20200623T013345Z
UID:10268-1593111600-1593111600@larchesyracuse.org
SUMMARY:Called to Connection: Live with L'Arche Syracuse
DESCRIPTION:Join your friends at L’Arche Syracuse\, D.C. for an evening of connection and inspiration. Experience the joy of L’Arche\, hear from L’Arche community members\, and learn how you can support us. This free virtual event is designed to share our mission and raise funds for L’Arche programming throughout the year. We hope to see you there! RSVP here for the Zoom link: https://larchesyracuse.wpengine.com/connection/
URL:https://larchesyracuse.org/event/called-to-connection-live-with-larche-Syracuse/
END:VEVENT
BEGIN:VEVENT
DTSTART;TZID=America/New_York:20200223T153000
DTEND;TZID=America/New_York:20200223T163000
DTSTAMP:20260420T050232
CREATED:20191209T191135Z
LAST-MODIFIED:20191209T191135Z
UID:9198-1582471800-1582475400@larchesyracuse.org
SUMMARY:Encounter L'Arche - DC Community
DESCRIPTION:Once a month\, we host visits for visitors to come and encounter L’Arche. In the space of an hour\, we highlight the people and mission of L’Arche through stories from our life together. Join us to meet the assistants and core people who make L’Arche a community that welcomes difference and celebrates the gifts of all people. \nEncounter L’Arche is designed for those who are just beginning their journey with the L’Arche Syracuse community. \nClick here to fill out the RSVP form.
URL:https://larchesyracuse.org/event/encounter-larche-dc-community-6/
END:VEVENT
BEGIN:VEVENT
DTSTART;TZID=America/New_York:20200223T153000
DTEND;TZID=America/New_York:20200223T163000
DTSTAMP:20260420T050232
CREATED:20191209T191135Z
LAST-MODIFIED:20191209T191135Z
UID:7750-1582471800-1582475400@larchesyracuse.org
SUMMARY:Encounter L'Arche - DC Community
DESCRIPTION:Once a month\, we host visits for visitors to come and encounter L’Arche. In the space of an hour\, we highlight the people and mission of L’Arche through stories from our life together. Join us to meet the assistants and core people who make L’Arche a community that welcomes difference and celebrates the gifts of all people. \nEncounter L’Arche is designed for those who are just beginning their journey with the L’Arche Syracuse community. \nClick here to fill out the RSVP form.
URL:https://larchesyracuse.org/event/encounter-larche-dc-community-6/
END:VEVENT
BEGIN:VEVENT
DTSTART;TZID=America/New_York:20131001T190000
DTEND;TZID=America/New_York:20131001T200059
DTSTAMP:20260420T050232
CREATED:20130910T004423Z
LAST-MODIFIED:20130910T004423Z
UID:2124-1380654000-1380657659@larchesyracuse.org
SUMMARY:Prayer Night - Arlington
DESCRIPTION:Eva-Elizabeth Chisholm and Eva Hernandez share a name\, a home\, and the blessing of looking younger than they really are. \nDiscover the spirituality of L’Arche by joining the community for a simple dinner and time of prayer\, sharing\, and reflection. Community members plan and lead the evening using song\, liturgy\, drama\, art\, and small group discussion to reflect on God’s love for us. Prayer night is open to anyone who wishes to learn more about L’Arche and develop relationships with our community members\, including people of all faith traditions. \n  \nGuests are invited to stay for refreshments and fellowship.
URL:https://larchesyracuse.org/event/prayer-night-arlington-19/
CATEGORIES:Prayer Night
END:VEVENT
BEGIN:VEVENT
DTSTART;TZID=America/New_York:20131001T190000
DTEND;TZID=America/New_York:20131001T200059
DTSTAMP:20260420T050232
CREATED:20130910T004423Z
LAST-MODIFIED:20130910T004423Z
UID:8319-1380654000-1380657659@larchesyracuse.org
SUMMARY:Prayer Night - Arlington
DESCRIPTION:Eva-Elizabeth Chisholm and Eva Hernandez share a name\, a home\, and the blessing of looking younger than they really are. \nDiscover the spirituality of L’Arche by joining the community for a simple dinner and time of prayer\, sharing\, and reflection. Community members plan and lead the evening using song\, liturgy\, drama\, art\, and small group discussion to reflect on God’s love for us. Prayer night is open to anyone who wishes to learn more about L’Arche and develop relationships with our community members\, including people of all faith traditions. \n  \nGuests are invited to stay for refreshments and fellowship.
URL:https://larchesyracuse.org/event/prayer-night-arlington-19/
CATEGORIES:Prayer Night
END:VEVENT
END:VCALENDAR